BEGIN:VCALENDAR
VERSION:2.0
PRODID:-//Brandschutz Service Brandes &amp; Hambrock - ECPv6.15.16//NONSGML v1.0//EN
CALSCALE:GREGORIAN
METHOD:PUBLISH
X-ORIGINAL-URL:https://bsb-wob.de
X-WR-CALDESC:Veranstaltungen für Brandschutz Service Brandes &amp; Hambrock
REFRESH-INTERVAL;VALUE=DURATION:PT1H
X-Robots-Tag:noindex
X-PUBLISHED-TTL:PT1H
BEGIN:VTIMEZONE
TZID:Europe/Berlin
BEGIN:DAYLIGHT
TZOFFSETFROM:+0100
TZOFFSETTO:+0200
TZNAME:CEST
DTSTART:20240331T010000
END:DAYLIGHT
BEGIN:STANDARD
TZOFFSETFROM:+0200
TZOFFSETTO:+0100
TZNAME:CET
DTSTART:20241027T010000
END:STANDARD
BEGIN:DAYLIGHT
TZOFFSETFROM:+0100
TZOFFSETTO:+0200
TZNAME:CEST
DTSTART:20250330T010000
END:DAYLIGHT
BEGIN:STANDARD
TZOFFSETFROM:+0200
TZOFFSETTO:+0100
TZNAME:CET
DTSTART:20251026T010000
END:STANDARD
BEGIN:DAYLIGHT
TZOFFSETFROM:+0100
TZOFFSETTO:+0200
TZNAME:CEST
DTSTART:20260329T010000
END:DAYLIGHT
BEGIN:STANDARD
TZOFFSETFROM:+0200
TZOFFSETTO:+0100
TZNAME:CET
DTSTART:20261025T010000
END:STANDARD
END:VTIMEZONE
BEGIN:VEVENT
DTSTART;TZID=Europe/Berlin:20250301T130000
DTEND;TZID=Europe/Berlin:20250301T170000
DTSTAMP:20260421T143144
CREATED:20250116T113223Z
LAST-MODIFIED:20250116T113223Z
UID:542-1740834000-1740848400@bsb-wob.de
SUMMARY:Der Erste Hilfe Kurs für Eltern\, Großeltern\, Onkel & Tante......
DESCRIPTION:Wir möchten Ihnen gern einen speziellen Erste Hilfe Kurs anbieten um Sie \nauf den Fall der Fälle vorzubereiten. \n \nNotfälle bei Kindern\, Kleinkindern oder gar Säuglingen sind eine besondere Herausforderung für die Betroffenen. \nBis professionelle Rettungskräfte am Notfallort eintreffen\, vergehen ca. 10 Minuten……..10 wertvolle Minuten! \nSind Sie fit für den Notfall?? \nUnsere Dozenten haben langjährige Rettungsdiensterfahrung. \nKosten pro Teilnehmer 45\,-€ für Elternpaare oder Großelternpaare 85\,-€ \nDauer ca. 4 Std. wo Sie ihre Kleinen sehr gerne mitbringen dürfen. \nAnmeldung bitte per E-Mail: Info@bsb-wob.de \nFür eventuelle Rückfragen Tel: 01736121386 \n 
URL:https://bsb-wob.de/event/der-erste-hilfe-kurs-fuer-eltern-grosseltern-onkel-tante
LOCATION:Ladestraße 3\, 38442 Wolfsburg\, Ladestraße 3\, Wolfsburg\, Niedersachsen\, 38442\, Deutschland
END:VEVENT
END:VCALENDAR