BEGIN:VCALENDAR
VERSION:2.0
PRODID:-//Brandschutz Service Brandes &amp; Hambrock - ECPv6.15.16//NONSGML v1.0//EN
CALSCALE:GREGORIAN
METHOD:PUBLISH
X-ORIGINAL-URL:https://bsb-wob.de
X-WR-CALDESC:Veranstaltungen für Brandschutz Service Brandes &amp; Hambrock
REFRESH-INTERVAL;VALUE=DURATION:PT1H
X-Robots-Tag:noindex
X-PUBLISHED-TTL:PT1H
BEGIN:VTIMEZONE
TZID:Europe/Berlin
BEGIN:DAYLIGHT
TZOFFSETFROM:+0100
TZOFFSETTO:+0200
TZNAME:CEST
DTSTART:20220327T010000
END:DAYLIGHT
BEGIN:STANDARD
TZOFFSETFROM:+0200
TZOFFSETTO:+0100
TZNAME:CET
DTSTART:20221030T010000
END:STANDARD
BEGIN:DAYLIGHT
TZOFFSETFROM:+0100
TZOFFSETTO:+0200
TZNAME:CEST
DTSTART:20230326T010000
END:DAYLIGHT
BEGIN:STANDARD
TZOFFSETFROM:+0200
TZOFFSETTO:+0100
TZNAME:CET
DTSTART:20231029T010000
END:STANDARD
BEGIN:DAYLIGHT
TZOFFSETFROM:+0100
TZOFFSETTO:+0200
TZNAME:CEST
DTSTART:20240331T010000
END:DAYLIGHT
BEGIN:STANDARD
TZOFFSETFROM:+0200
TZOFFSETTO:+0100
TZNAME:CET
DTSTART:20241027T010000
END:STANDARD
END:VTIMEZONE
BEGIN:VEVENT
DTSTART;TZID=Europe/Berlin:20231026T080000
DTEND;TZID=Europe/Berlin:20231026T170000
DTSTAMP:20260422T220611
CREATED:20231026T131231Z
LAST-MODIFIED:20231026T131410Z
UID:492-1698307200-1698339600@bsb-wob.de
SUMMARY:!!!!!Weitere Termine für 2024 folgen in Kürze!!!!!
DESCRIPTION:
URL:https://bsb-wob.de/event/weitere-termine-folgen-in-kuerze
END:VEVENT
END:VCALENDAR